BEGIN:VCALENDAR
VERSION:2.0
PRODID:-//Nigerian Association of WA - ECPv6.13.2.1//NONSGML v1.0//EN
CALSCALE:GREGORIAN
METHOD:PUBLISH
X-WR-CALNAME:Nigerian Association of WA
X-ORIGINAL-URL:https://www.nawa.com.au
X-WR-CALDESC:Events for Nigerian Association of WA
REFRESH-INTERVAL;VALUE=DURATION:PT1H
X-Robots-Tag:noindex
X-PUBLISHED-TTL:PT1H
BEGIN:VTIMEZONE
TZID:Australia/Perth
BEGIN:STANDARD
TZOFFSETFROM:+0800
TZOFFSETTO:+0800
TZNAME:AWST
DTSTART:20230101T000000
END:STANDARD
END:VTIMEZONE
BEGIN:VEVENT
DTSTART;TZID=Australia/Perth:20251011T170000
DTEND;TZID=Australia/Perth:20251011T220000
DTSTAMP:20260425T044513
CREATED:20220911T121750Z
LAST-MODIFIED:20250923T101908Z
UID:3504-1760202000-1760220000@www.nawa.com.au
SUMMARY:Nigeria Day '25
DESCRIPTION:
URL:https://www.nawa.com.au/event/nigeria-day-22/
LOCATION:Abruzzo Molise Sporting Club – 30 Brook Rd.\, Wattle Grove WA 6017\, Wattle Grove\, WA\, 6017\, Australia
ATTACH;FMTTYPE=image/jpeg:https://www.nawa.com.au/wp-content/uploads/2025/09/Naija-Day-25-OMI-Flyer.jpg
ORGANIZER;CN="NAWA":MAILTO:info@nawa.com.au
END:VEVENT
BEGIN:VEVENT
DTSTART;TZID=Australia/Perth:20250920T120000
DTEND;TZID=Australia/Perth:20250920T190000
DTSTAMP:20260425T044513
CREATED:20220928T094158Z
LAST-MODIFIED:20250920T011336Z
UID:3722-1758369600-1758394800@www.nawa.com.au
SUMMARY:Naija Fest '25
DESCRIPTION:
URL:https://www.nawa.com.au/event/naija-fest-22-2/
LOCATION:Mills Park\, Brixton St.  Beckenham WA 6017\, Mills Park\, Brixton St.\, Beckenham\, WA\, 6107\, Australia
ATTACH;FMTTYPE=image/jpeg:https://www.nawa.com.au/wp-content/uploads/2022/09/NaijaFest-25.jpg
ORGANIZER;CN="NAWA":MAILTO:info@nawa.com.au
END:VEVENT
BEGIN:VEVENT
DTSTART;TZID=Australia/Perth:20250823T173000
DTEND;TZID=Australia/Perth:20250823T233000
DTSTAMP:20260425T044513
CREATED:20210405T001437Z
LAST-MODIFIED:20250719T113740Z
UID:2019-1755970200-1755991800@www.nawa.com.au
SUMMARY:NAWA Couples Dinner 2025
DESCRIPTION:
URL:https://www.nawa.com.au/event/nawa-deput-couples-dinner/
LOCATION:The UWA University Club\, 1 Hackett Drive\, Crawley\, WA\, 6009\, Australia
ATTACH;FMTTYPE=image/jpeg:https://www.nawa.com.au/wp-content/uploads/2025/07/Nawa-couples-dinner-25.jpg
ORGANIZER;CN="NAWA":MAILTO:info@nawa.com.au
END:VEVENT
BEGIN:VEVENT
DTSTART;VALUE=DATE:20250328
DTEND;VALUE=DATE:20250331
DTSTAMP:20260425T044513
CREATED:20220309T112327Z
LAST-MODIFIED:20250209T211718Z
UID:2824-1743120000-1743379199@www.nawa.com.au
SUMMARY:Passport Renewal 2025
DESCRIPTION:Buy Ticket
URL:https://www.nawa.com.au/event/passport-renewal-2025/
LOCATION:Hillview Intercultural Community Centre\, 1-3 Hill View Pl\, Bentley\, WA\, 6102
ATTACH;FMTTYPE=image/jpeg:https://www.nawa.com.au/wp-content/uploads/2022/03/NAWA-PIE-2025.jpg
ORGANIZER;CN="NAWA":MAILTO:info@nawa.com.au
END:VEVENT
BEGIN:VEVENT
DTSTART;TZID=Australia/Perth:20240727T130000
DTEND;TZID=Australia/Perth:20240727T170000
DTSTAMP:20260425T044513
CREATED:20240727T050005Z
LAST-MODIFIED:20240713T012903Z
UID:3402-1722085200-1722099600@www.nawa.com.au
SUMMARY:Health & Wellbeing EXPO '24
DESCRIPTION:
URL:https://www.nawa.com.au/event/nawa-genesis-forum-health-wellbeing-expo/
LOCATION:Hillview Intercultural Community Centre\, 1-3 Hill View Pl\, Bentley\, WA\, 6102
CATEGORIES:Health
ATTACH;FMTTYPE=image/jpeg:https://www.nawa.com.au/wp-content/uploads/2024/07/NAWA-Health-and-wellbeing.jpg
ORGANIZER;CN="NAWA":MAILTO:info@nawa.com.au
END:VEVENT
BEGIN:VEVENT
DTSTART;TZID=Australia/Perth:20240727T130000
DTEND;TZID=Australia/Perth:20240727T170000
DTSTAMP:20260425T044513
CREATED:20240712T050058Z
LAST-MODIFIED:20240713T014333Z
UID:2500-1722085200-1722099600@www.nawa.com.au
SUMMARY:Health and Wellbeing EXPO '24
DESCRIPTION:
URL:https://www.nawa.com.au/event/nawa-genesis-forum-health-and-wellbeing-expo-24/
LOCATION:Hillview Intercultural Community Centre\, 1-3 Hill View Pl\, Bentley\, WA\, 6102
ATTACH;FMTTYPE=image/jpeg:https://www.nawa.com.au/wp-content/uploads/2024/07/NAWA-Health-and-wellbeing.jpg
ORGANIZER;CN="NAWA":MAILTO:info@nawa.com.au
END:VEVENT
BEGIN:VEVENT
DTSTART;TZID=Australia/Perth:20230823T180000
DTEND;TZID=Australia/Perth:20230823T220000
DTSTAMP:20260425T044513
CREATED:20220524T084000Z
LAST-MODIFIED:20230618T085547Z
UID:3260-1692813600-1692828000@www.nawa.com.au
SUMMARY:Gala Night 2023
DESCRIPTION:
URL:https://www.nawa.com.au/event/couples-dinner/
LOCATION:UWA Unverity Club Banquet Hall – Hackette Dr. Crawley\, m800/35 Stirling Hwy\, Crawley\, WA\, 6009\, Australia
ATTACH;FMTTYPE=image/jpeg:https://www.nawa.com.au/wp-content/uploads/2023/05/WhatsApp-Image-2023-06-17-at-20.24.33.jpg
ORGANIZER;CN="NAWA":MAILTO:info@nawa.com.au
END:VEVENT
END:VCALENDAR