BEGIN:VCALENDAR
VERSION:2.0
PRODID:-//Nigerian Association of WA - ECPv6.13.2.1//NONSGML v1.0//EN
CALSCALE:GREGORIAN
METHOD:PUBLISH
X-ORIGINAL-URL:https://www.nawa.com.au
X-WR-CALDESC:Events for Nigerian Association of WA
REFRESH-INTERVAL;VALUE=DURATION:PT1H
X-Robots-Tag:noindex
X-PUBLISHED-TTL:PT1H
BEGIN:VTIMEZONE
TZID:Australia/Perth
BEGIN:STANDARD
TZOFFSETFROM:+0800
TZOFFSETTO:+0800
TZNAME:AWST
DTSTART:20240101T000000
END:STANDARD
END:VTIMEZONE
BEGIN:VEVENT
DTSTART;TZID=Australia/Perth:20240727T130000
DTEND;TZID=Australia/Perth:20240727T170000
DTSTAMP:20260425T092610
CREATED:20240727T050005Z
LAST-MODIFIED:20240713T012903Z
UID:3402-1722085200-1722099600@www.nawa.com.au
SUMMARY:Health & Wellbeing EXPO '24
DESCRIPTION:
URL:https://www.nawa.com.au/event/nawa-genesis-forum-health-wellbeing-expo/
LOCATION:Hillview Intercultural Community Centre\, 1-3 Hill View Pl\, Bentley\, WA\, 6102
CATEGORIES:Health
ATTACH;FMTTYPE=image/jpeg:https://www.nawa.com.au/wp-content/uploads/2024/07/NAWA-Health-and-wellbeing.jpg
ORGANIZER;CN="NAWA":MAILTO:info@nawa.com.au
END:VEVENT
END:VCALENDAR